BEGIN:VCALENDAR
VERSION:2.0
PRODID:-//Herzlich Willkommen! - ECPv6.15.20//NONSGML v1.0//EN
CALSCALE:GREGORIAN
METHOD:PUBLISH
X-WR-CALNAME:Herzlich Willkommen!
X-ORIGINAL-URL:https://promusica-uedem.com
X-WR-CALDESC:Veranstaltungen für Herzlich Willkommen!
REFRESH-INTERVAL;VALUE=DURATION:PT1H
X-Robots-Tag:noindex
X-PUBLISHED-TTL:PT1H
BEGIN:VTIMEZONE
TZID:Europe/Berlin
BEGIN:DAYLIGHT
TZOFFSETFROM:+0100
TZOFFSETTO:+0200
TZNAME:CEST
DTSTART:20250330T010000
END:DAYLIGHT
BEGIN:STANDARD
TZOFFSETFROM:+0200
TZOFFSETTO:+0100
TZNAME:CET
DTSTART:20251026T010000
END:STANDARD
BEGIN:DAYLIGHT
TZOFFSETFROM:+0100
TZOFFSETTO:+0200
TZNAME:CEST
DTSTART:20260329T010000
END:DAYLIGHT
BEGIN:STANDARD
TZOFFSETFROM:+0200
TZOFFSETTO:+0100
TZNAME:CET
DTSTART:20261025T010000
END:STANDARD
BEGIN:DAYLIGHT
TZOFFSETFROM:+0100
TZOFFSETTO:+0200
TZNAME:CEST
DTSTART:20270328T010000
END:DAYLIGHT
BEGIN:STANDARD
TZOFFSETFROM:+0200
TZOFFSETTO:+0100
TZNAME:CET
DTSTART:20271031T010000
END:STANDARD
END:VTIMEZONE
BEGIN:VEVENT
DTSTART;TZID=Europe/Berlin:20260519T153000
DTEND;TZID=Europe/Berlin:20260519T163000
DTSTAMP:20260425T134755
CREATED:20260315T095436Z
LAST-MODIFIED:20260322T155908Z
UID:712-1779204600-1779208200@promusica-uedem.com
SUMMARY:Singen im Hospiz in Donsbrüggen
DESCRIPTION:
URL:https://promusica-uedem.com/event/singen-im-hospiz-in-donsbrueggen/
LOCATION:Mehrer Str. 1; 47533 Kleve\, Mehrer Str. 1\, Kleve Donsbrüggen\, 47533
END:VEVENT
BEGIN:VEVENT
DTSTART;TZID=Europe/Berlin:20260610T160000
DTEND;TZID=Europe/Berlin:20260610T170000
DTSTAMP:20260425T134755
CREATED:20260315T095523Z
LAST-MODIFIED:20260315T095523Z
UID:714-1781107200-1781110800@promusica-uedem.com
SUMMARY:Singen im Altenheim in Goch
DESCRIPTION:
URL:https://promusica-uedem.com/event/singen-im-altenheim-in-goch/
LOCATION:Goch\, Adolf- Kolpingstr. 1
END:VEVENT
BEGIN:VEVENT
DTSTART;TZID=Europe/Berlin:20260927T163000
DTEND;TZID=Europe/Berlin:20260927T183000
DTSTAMP:20260425T134755
CREATED:20250706T080735Z
LAST-MODIFIED:20260322T155829Z
UID:705-1790526600-1790533800@promusica-uedem.com
SUMMARY:Konzert im Bürgerhaus Uedem
DESCRIPTION:Karten gibt es bei allen Sängerinnen\, Geschenkideen Heidi Binn in Uedem und im Bürgerhaus Uedem ab September
URL:https://promusica-uedem.com/event/konzert-im-buergerhaus-uedem/
LOCATION:Bürgerhaus Uedem\, Agathawall 11\, Uedem\, NRW\, 47589\, Deutschland
END:VEVENT
BEGIN:VEVENT
DTSTART;TZID=Europe/Berlin:20261011T173000
DTEND;TZID=Europe/Berlin:20261011T193000
DTSTAMP:20260425T134755
CREATED:20260315T095753Z
LAST-MODIFIED:20260315T095754Z
UID:716-1791739800-1791747000@promusica-uedem.com
SUMMARY:Gottesdienst Wasserburg Rindern
DESCRIPTION:
URL:https://promusica-uedem.com/event/gottesdienst-wasserburg-rindern/
LOCATION:Wasserburgallee 120; 47533 Kleve\, Wasserburgallee 12o\, Kleve\, 47533
END:VEVENT
BEGIN:VEVENT
DTSTART;TZID=Europe/Berlin:20261116T160000
DTEND;TZID=Europe/Berlin:20261116T170000
DTSTAMP:20260425T134755
CREATED:20260315T095915Z
LAST-MODIFIED:20260315T095915Z
UID:719-1794844800-1794848400@promusica-uedem.com
SUMMARY:Singen im Herz - Jesu - Heim Kleve
DESCRIPTION:
URL:https://promusica-uedem.com/event/singen-im-herz-jesu-heim-kleve/
LOCATION:Kleve Herz – Jesu Seniorenheim
END:VEVENT
BEGIN:VEVENT
DTSTART;TZID=Europe/Berlin:20261209T173000
DTEND;TZID=Europe/Berlin:20261209T183000
DTSTAMP:20260425T134755
CREATED:20260315T095154Z
LAST-MODIFIED:20260315T095154Z
UID:710-1796837400-1796841000@promusica-uedem.com
SUMMARY:Singen auf dem Weihnachtsmarkt in Moyland
DESCRIPTION:
URL:https://promusica-uedem.com/event/singen-auf-dem-weihnachtsmarkt-in-moyland/
LOCATION:Weihnachtsmarkt Moyland
END:VEVENT
BEGIN:VEVENT
DTSTART;TZID=Europe/Berlin:20261212T163000
DTEND;TZID=Europe/Berlin:20261212T173000
DTSTAMP:20260425T134755
CREATED:20260315T100001Z
LAST-MODIFIED:20260315T100001Z
UID:721-1797093000-1797096600@promusica-uedem.com
SUMMARY:Singen beim Büdchenzauber Uedem
DESCRIPTION:
URL:https://promusica-uedem.com/event/singen-beim-buedchenzauber-uedem/
END:VEVENT
END:VCALENDAR